BEGIN:VCALENDAR
VERSION:2.0
PRODID:-//eventon.com NONSGML v1.0//EN
BEGIN:VEVENT
UID:69e9016e99706
DTSTAMP:20260422T191214
DTSTART:20220529T070000Z
DTEND:20220529T160000Z
LOCATION:
SUMMARY:STAROČESKÉ ŘEMESLNICKÉ TRHY TURNOV 2022
DESCRIPTION: STAROČESKÉ ŘEMESLNICKÉ TRHY TURNOV 2022 29. 5. 2022 Festival řemesel\,  hudby a divadla\,  to jsou Staročeské řemeslnické trhy v Turnově. 25. ročník této akce je v letošním roce významnou součástí oslav 750. výročí první písemné zmínky města Turnov Staročeské řemeslnické trhy jsou vyvrcholením Týdne oslav tohoto významného výročí. Za dobu[..]
END:VEVENT
END:VCALENDAR