BEGIN:VCALENDAR
VERSION:2.0
PRODID:-//eventon.com NONSGML v1.0//EN
BEGIN:VEVENT
UID:69e5f56a6b1ad
DTSTAMP:20260420T114410
DTSTART:20220821T090000Z
DTEND:20220821T130000Z
LOCATION:
SUMMARY:POHÁDKY O PEJSKOVI A KOČIČCE – Loutkové představení v atriu muzea
DESCRIPTION: 21. 8. POHÁDKY O PEJSKOVI A KOČIČCE\,  hraje LS Na Židli Turnov LOUTKÁŘI DĚTEM (Loutkářské neděle v atriu muzea) Kdy: Každou prázdninovou neděli vždy v 11:00\,  13:00 a 15:00 Kde: Muzeum Českého ráje v Turnově\,  Skálova 71 (atrium) Pro Ty\,  kteří byli zvyklí chodit na pohádky na Dlaskův statek\,  je[..]
END:VEVENT
END:VCALENDAR