BEGIN:VCALENDAR
VERSION:2.0
PRODID:-//eventon.com NONSGML v1.0//EN
BEGIN:VEVENT
UID:69ed2cfa9e7de
DTSTAMP:20260425T230706
DTSTART:20240622T074500Z
DTEND:20240622T150000Z
LOCATION:
SUMMARY:Geoexkurze do okolí Harrachova
DESCRIPTION: Geologické exkurze 2024 V červnu a červenci 2024 se uskuteční geologické exkurze\,  které pro veřejnost připravuje geolog a mineralog turnovského muzea Mgr. Jan Bubal. Exkurze nejsou určeny jen zájemcům o geologické vědy\,  ale všem milovníkům historie a krásné přírody. Exkurzí je připravených pět – tři jsou po lokalitách a zajímavostech Českého[..]
END:VEVENT
END:VCALENDAR