BEGIN:VCALENDAR
VERSION:2.0
PRODID:-//eventon.com NONSGML v1.0//EN
BEGIN:VEVENT
UID:69eb4bd85a269
DTSTAMP:20260424T125416
DTSTART:20241030T150000Z
DTEND:20241030T170000Z
LOCATION:
SUMMARY:Milan Starec: Stavební vývoj sladoven a pivovarů na Turnovsku (Přednáška)
DESCRIPTION: Milan Starec: Stavební vývoj sladoven a pivovarů na Turnovsku Výstavba sladoven a pivovarů měla svá jasná pravidla. Jejich uspořádání je i po staletích čitelné v různých stavebních fázích\,  i když je často překryly další úpravy. Stavební vývoj sladoven a pivovarů s přihlédnutím k lokálním příkladům nám představí Milan Starec –[..]
END:VEVENT
END:VCALENDAR