BEGIN:VCALENDAR
VERSION:2.0
PRODID:-//eventon.com NONSGML v1.0//EN
BEGIN:VEVENT
UID:69e5f02a5e0ec
DTSTAMP:20260420T112146
DTSTART:20250412T085800Z
DTEND:20250412T085800Z
LOCATION:
SUMMARY:Velikonoce v Křišťálovém údolí
DESCRIPTION: Velikonoce v Křišťálovém údolí Přijďte k nám načerpat inspiraci do Muzea Českého ráje v Turnově – VSTUP ZDARMA PO CELÝ VÍKEND do všech stálých expozic a výstav. V sobotu 12. dubna v 15:00 vás srdečně zveme na Slavnostní uvedení monografie „Vlasta Matoušová". Následovat bude komentovaná prohlídka výstavy "Hmyz a rostliny[..]
END:VEVENT
END:VCALENDAR