BEGIN:VCALENDAR
VERSION:2.0
PRODID:-//eventon.com NONSGML v1.0//EN
BEGIN:VEVENT
UID:69e7400a23603
DTSTAMP:20260421T111450
DTSTART:20250531T070000Z
DTEND:20250531T163000Z
LOCATION:
SUMMARY:STAROČESKÉ ŘEMESLNICKÉ TRHY TURNOV 2025
DESCRIPTION: Festival řemesel\,  hudby a tradic Předprodej vstupenek zde Staročeské řemeslnické trhy v Turnově jsou oslavou poctivé rukodělné práce\,  hudby a divadla. Každý rok přinášejí jedinečné setkání s mistry tradičních řemesel\,  bohatý kulturní program a nezapomenutelnou atmosféru\,  která láká návštěvníky z celé České republiky i zahraničí. Za více než čtvrt století[..]
END:VEVENT
END:VCALENDAR