BEGIN:VCALENDAR
VERSION:2.0
PRODID:-//eventon.com NONSGML v1.0//EN
BEGIN:VEVENT
UID:69e73fe27623e
DTSTAMP:20260421T111410
DTSTART:20260326T150000Z
DTEND:20260326T170000Z
LOCATION:
SUMMARY:Vulkanismus\,  zemětřesení a další procesy spojené s pohyby litosférických desek (Přednáška)
DESCRIPTION: CYKLUS PŘEDNÁŠEK „JAK VZNIKAJÍ HORY – TAJEMSTVÍ DESKOVÉ TEKTONIKY“ Dva roky po skončení výstavy „Jak vznikají hory – tajemství deskové tektoniky“ připravil geolog Jan Bubal stejnojmenný cyklus přednášek\,  který bude vycházet právě z této výstavy. Postupně budou představeny všechny geologické procesy\,  které probíhají uvnitř naší planety a na jejím povrchu se[..]
END:VEVENT
END:VCALENDAR