BEGIN:VCALENDAR
VERSION:2.0
PRODID:-//eventon.com NONSGML v1.0//EN
BEGIN:VEVENT
UID:69e73c4a91b5d
DTSTAMP:20260421T105850
DTSTART:20260305T150000Z
DTEND:20260305T170000Z
LOCATION:
SUMMARY:Relikviář sv. Maura – Přednáška Andreje Šumbery\,  restaurátora a šperkaře
DESCRIPTION: Při příležitosti 40 let od objevení této klíčové památky románského zlatnictví\,  které jsme si připomněli v závěru roku 2025\,  představí restaurátor a šperkař Andrej Šumbera relikviář s jeho výzdobou a nechá nahlédnout do procesu jeho dlouhého a pečlivého restaurování\,  u něhož byl po celou dobu přítomen. Během procesu obnovy zkoumal Andrej Šumbera[..]
END:VEVENT
END:VCALENDAR