BEGIN:VCALENDAR
VERSION:2.0
PRODID:-//eventon.com NONSGML v1.0//EN
BEGIN:VEVENT
UID:69e73fe26de0f
DTSTAMP:20260421T111410
DTSTART:20260311T150000Z
DTEND:20260311T170000Z
LOCATION:
SUMMARY:Staré stezky (nejen) Českým rájem – Přednáška historika Jiřího Zoul Sajbta
DESCRIPTION: Staré stezky jsou historickým fenoménem\,  který lze sledovat již od pravěku. Jejich studium nám ukazuje\,  kudy naši předkové cestovali a jaké směry pro ně byly důležité\,  což nám zpětně dává představu o významu jednotlivých lidských sídlišť. Porozumění mobilitě v jednotlivých dějinných epochách nám pak doplňuje dějiny politické\,  hospodářské\,  vojenské i[..]
END:VEVENT
END:VCALENDAR