BEGIN:VCALENDAR
VERSION:2.0
PRODID:-//eventon.com NONSGML v1.0//EN
BEGIN:VEVENT
UID:69e4d1ea10bcb
DTSTAMP:20260419T150026
DTSTART:20260322T080000Z
DTEND:20260322T130000Z
LOCATION:
SUMMARY:Workshop Klenoty pravěku – výroba šperku z kosti
DESCRIPTION: Workshop Klenoty pravěku – výroba šperku z kosti Muzeum Českého ráje v Turnově – Kamenářský dům Neděle 22. března 2026 / 10:00–12:00 nebo 13:00–15:00 / Cena: 80 Kč Vstup je možný po předchozí rezervaci prostřednictvím rezervačního systému: https://muzeumturnov.reenio.cz/.../2022-08-15;viewMode=7...? Jaké to je tvořit šperk tak\,  jak to dělali lidé před desítkami[..]
END:VEVENT
END:VCALENDAR